BEGIN:VCALENDAR
VERSION:2.0
PRODID:-//Squared Law LLP
 //NONSGML Events //EN
CALSCALE:GREGORIAN
BEGIN:VEVENT
CREATED:20201102T191200
UID:296
DTSTART:20221102T000000Z
DTEND:20221104T235900Z
DTSTAMP:20260420T082741
LOCATION:dammit
DESCRIPTION:The&nbsp;National Association of Minority and Women Owned Law Firms&nbsp;(NAMWOLF) Driving Diversity &amp; Leadership Conference is a great opportunity to increase participation and relationships with NAMWOLF Law Firm Members. The event kicked off on Saturday with a half day of programming for NAMWOLF’s Law Firm Members, focused on providing firms with education to help develop and grow their businesses. Sunday started off with fantastic networking events, luncheon panel, and sessions to help law firm member and in-house counsel get the most out of their involvement with NAMWOLF. Monday was focused on providing Continuing Legal Education for all attendees presented by NAMWOLF Practice Area Committees (PACs), which allowed for greater insight into each Law Firm Member’s experience and capability to handle complex legal matters. These included presentations by the&nbsp;NAMWOLF Trials PAC, of which&nbsp;Jason Wilson&nbsp;is the former co-chair, and the&nbsp;NAMWOLF White Collar Defense &amp; Internal Investigations PAC, of which&nbsp;Paul Loh&nbsp;is co-chair. The Driving&hellip;...
SUMMARY:2020 NAMWOLF Driving Diversity &amp; Leadership Conference
ORGANIZER:CN=Squared Law LLP
URL;VALUE=URI:https://squaredlaw.fsquaredmarketing.com/events/2020-namwolf-driving-diversity-leadership-conference/
TRANSP:OPAQUE
END:VEVENT
END:VCALENDAR
